BEGIN:VCALENDAR
PRODID:-//HKUST Drupal Platform//EN
VERSION:2.0
BEGIN:VTIMEZONE
TZID:Asia/Hong_Kong
BEGIN:STANDARD
DTSTART:20071104T020000
TZOFFSETFROM:+0700
TZOFFSETTO:+0800
TZNAME:HKT
END:STANDARD
END:VTIMEZONE
BEGIN:VEVENT
DTSTAMP;TZID=Asia/Hong_Kong:20260420T163804
DTSTART;TZID=Asia/Hong_Kong:20221024T000000
DTEND;TZID=Asia/Hong_Kong:20221028T235900
LOCATION:Atrium
SUMMARY:HKUST Wu Zhi Qiao (Bridge to China)  - 1:1 REAL Bailey Bridge Model Exhibition
UID:35783
END:VEVENT
END:VCALENDAR