BEGIN:VCALENDAR
PRODID:-//HKUST Drupal Platform//EN
VERSION:2.0
BEGIN:VTIMEZONE
TZID:Asia/Hong_Kong
BEGIN:STANDARD
DTSTART:20071104T020000
TZOFFSETFROM:+0700
TZOFFSETTO:+0800
TZNAME:HKT
END:STANDARD
END:VTIMEZONE
BEGIN:VEVENT
DTSTAMP;TZID=Asia/Hong_Kong:20260420T142614
DTSTART;TZID=Asia/Hong_Kong:20221130T090000
DTEND;TZID=Asia/Hong_Kong:20221130T190000
LOCATION:Hong Kong Convention and Exhibition Centre
SUMMARY:HKTDC Entrepreneur Day 2022
UID:35692
END:VEVENT
BEGIN:VEVENT
DTSTAMP;TZID=Asia/Hong_Kong:20260420T142614
DTSTART;TZID=Asia/Hong_Kong:20221201T090000
DTEND;TZID=Asia/Hong_Kong:20221201T190000
LOCATION:Hong Kong Convention and Exhibition Centre
SUMMARY:HKTDC Entrepreneur Day 2022
UID:35692
END:VEVENT
BEGIN:VEVENT
DTSTAMP;TZID=Asia/Hong_Kong:20260420T142614
DTSTART;TZID=Asia/Hong_Kong:20221202T090000
DTEND;TZID=Asia/Hong_Kong:20221202T190000
LOCATION:Hong Kong Convention and Exhibition Centre
SUMMARY:HKTDC Entrepreneur Day 2022
UID:35692
END:VEVENT
END:VCALENDAR