BEGIN:VCALENDAR
PRODID:-//HKUST Drupal Platform//EN
VERSION:2.0
BEGIN:VTIMEZONE
TZID:Asia/Hong_Kong
BEGIN:STANDARD
DTSTART:20071104T020000
TZOFFSETFROM:+0700
TZOFFSETTO:+0800
TZNAME:HKT
END:STANDARD
END:VTIMEZONE
BEGIN:VEVENT
DTSTAMP;TZID=Asia/Hong_Kong:20260420T142615
DTSTART;TZID=Asia/Hong_Kong:20221107T093000
DTEND;TZID=Asia/Hong_Kong:20221107T173000
LOCATION:Shaw Auditorium and The HKUST Jockey Club Institute for Advanced Study (IAS)
SUMMARY:HKUST Industry Engagement Day : Innovation and Technology Showcase
UID:35668
END:VEVENT
END:VCALENDAR