BEGIN:VCALENDAR
PRODID:-//HKUST Drupal Platform//EN
VERSION:2.0
BEGIN:VTIMEZONE
TZID:Asia/Hong_Kong
BEGIN:STANDARD
DTSTART:20071104T020000
TZOFFSETFROM:+0700
TZOFFSETTO:+0800
TZNAME:HKT
END:STANDARD
END:VTIMEZONE
BEGIN:VEVENT
DTSTAMP;TZID=Asia/Hong_Kong:20260420T185640
DTSTART;TZID=Asia/Hong_Kong:20220925T090000
DTEND;TZID=Asia/Hong_Kong:20220925T150000
LOCATION:ISD studio (Room 2590, Lift 27-28)
SUMMARY:Repair Parties
UID:35528
END:VEVENT
BEGIN:VEVENT
DTSTAMP;TZID=Asia/Hong_Kong:20260420T185640
DTSTART;TZID=Asia/Hong_Kong:20220926T090000
DTEND;TZID=Asia/Hong_Kong:20220926T150000
LOCATION:ISD studio (Room 2590, Lift 27-28)
SUMMARY:Repair Parties
UID:35528
END:VEVENT
BEGIN:VEVENT
DTSTAMP;TZID=Asia/Hong_Kong:20260420T185640
DTSTART;TZID=Asia/Hong_Kong:20220927T090000
DTEND;TZID=Asia/Hong_Kong:20220927T150000
LOCATION:ISD studio (Room 2590, Lift 27-28)
SUMMARY:Repair Parties
UID:35528
END:VEVENT
BEGIN:VEVENT
DTSTAMP;TZID=Asia/Hong_Kong:20260420T185640
DTSTART;TZID=Asia/Hong_Kong:20220928T090000
DTEND;TZID=Asia/Hong_Kong:20220928T150000
LOCATION:ISD studio (Room 2590, Lift 27-28)
SUMMARY:Repair Parties
UID:35528
END:VEVENT
BEGIN:VEVENT
DTSTAMP;TZID=Asia/Hong_Kong:20260420T185640
DTSTART;TZID=Asia/Hong_Kong:20220929T090000
DTEND;TZID=Asia/Hong_Kong:20220929T150000
LOCATION:ISD studio (Room 2590, Lift 27-28)
SUMMARY:Repair Parties
UID:35528
END:VEVENT
BEGIN:VEVENT
DTSTAMP;TZID=Asia/Hong_Kong:20260420T185640
DTSTART;TZID=Asia/Hong_Kong:20220930T090000
DTEND;TZID=Asia/Hong_Kong:20220930T150000
LOCATION:ISD studio (Room 2590, Lift 27-28)
SUMMARY:Repair Parties
UID:35528
END:VEVENT
BEGIN:VEVENT
DTSTAMP;TZID=Asia/Hong_Kong:20260420T185640
DTSTART;TZID=Asia/Hong_Kong:20221001T090000
DTEND;TZID=Asia/Hong_Kong:20221001T150000
LOCATION:ISD studio (Room 2590, Lift 27-28)
SUMMARY:Repair Parties
UID:35528
END:VEVENT
BEGIN:VEVENT
DTSTAMP;TZID=Asia/Hong_Kong:20260420T185640
DTSTART;TZID=Asia/Hong_Kong:20221002T090000
DTEND;TZID=Asia/Hong_Kong:20221002T150000
LOCATION:ISD studio (Room 2590, Lift 27-28)
SUMMARY:Repair Parties
UID:35528
END:VEVENT
BEGIN:VEVENT
DTSTAMP;TZID=Asia/Hong_Kong:20260420T185640
DTSTART;TZID=Asia/Hong_Kong:20221003T090000
DTEND;TZID=Asia/Hong_Kong:20221003T150000
LOCATION:ISD studio (Room 2590, Lift 27-28)
SUMMARY:Repair Parties
UID:35528
END:VEVENT
BEGIN:VEVENT
DTSTAMP;TZID=Asia/Hong_Kong:20260420T185640
DTSTART;TZID=Asia/Hong_Kong:20221004T090000
DTEND;TZID=Asia/Hong_Kong:20221004T150000
LOCATION:ISD studio (Room 2590, Lift 27-28)
SUMMARY:Repair Parties
UID:35528
END:VEVENT
BEGIN:VEVENT
DTSTAMP;TZID=Asia/Hong_Kong:20260420T185640
DTSTART;TZID=Asia/Hong_Kong:20221005T090000
DTEND;TZID=Asia/Hong_Kong:20221005T150000
LOCATION:ISD studio (Room 2590, Lift 27-28)
SUMMARY:Repair Parties
UID:35528
END:VEVENT
BEGIN:VEVENT
DTSTAMP;TZID=Asia/Hong_Kong:20260420T185640
DTSTART;TZID=Asia/Hong_Kong:20221006T090000
DTEND;TZID=Asia/Hong_Kong:20221006T150000
LOCATION:ISD studio (Room 2590, Lift 27-28)
SUMMARY:Repair Parties
UID:35528
END:VEVENT
BEGIN:VEVENT
DTSTAMP;TZID=Asia/Hong_Kong:20260420T185640
DTSTART;TZID=Asia/Hong_Kong:20221007T090000
DTEND;TZID=Asia/Hong_Kong:20221007T150000
LOCATION:ISD studio (Room 2590, Lift 27-28)
SUMMARY:Repair Parties
UID:35528
END:VEVENT
BEGIN:VEVENT
DTSTAMP;TZID=Asia/Hong_Kong:20260420T185640
DTSTART;TZID=Asia/Hong_Kong:20221008T090000
DTEND;TZID=Asia/Hong_Kong:20221008T150000
LOCATION:ISD studio (Room 2590, Lift 27-28)
SUMMARY:Repair Parties
UID:35528
END:VEVENT
BEGIN:VEVENT
DTSTAMP;TZID=Asia/Hong_Kong:20260420T185640
DTSTART;TZID=Asia/Hong_Kong:20221009T090000
DTEND;TZID=Asia/Hong_Kong:20221009T150000
LOCATION:ISD studio (Room 2590, Lift 27-28)
SUMMARY:Repair Parties
UID:35528
END:VEVENT
BEGIN:VEVENT
DTSTAMP;TZID=Asia/Hong_Kong:20260420T185640
DTSTART;TZID=Asia/Hong_Kong:20221010T090000
DTEND;TZID=Asia/Hong_Kong:20221010T150000
LOCATION:ISD studio (Room 2590, Lift 27-28)
SUMMARY:Repair Parties
UID:35528
END:VEVENT
BEGIN:VEVENT
DTSTAMP;TZID=Asia/Hong_Kong:20260420T185640
DTSTART;TZID=Asia/Hong_Kong:20221011T090000
DTEND;TZID=Asia/Hong_Kong:20221011T150000
LOCATION:ISD studio (Room 2590, Lift 27-28)
SUMMARY:Repair Parties
UID:35528
END:VEVENT
BEGIN:VEVENT
DTSTAMP;TZID=Asia/Hong_Kong:20260420T185640
DTSTART;TZID=Asia/Hong_Kong:20221012T090000
DTEND;TZID=Asia/Hong_Kong:20221012T150000
LOCATION:ISD studio (Room 2590, Lift 27-28)
SUMMARY:Repair Parties
UID:35528
END:VEVENT
BEGIN:VEVENT
DTSTAMP;TZID=Asia/Hong_Kong:20260420T185640
DTSTART;TZID=Asia/Hong_Kong:20221013T090000
DTEND;TZID=Asia/Hong_Kong:20221013T150000
LOCATION:ISD studio (Room 2590, Lift 27-28)
SUMMARY:Repair Parties
UID:35528
END:VEVENT
BEGIN:VEVENT
DTSTAMP;TZID=Asia/Hong_Kong:20260420T185640
DTSTART;TZID=Asia/Hong_Kong:20221014T090000
DTEND;TZID=Asia/Hong_Kong:20221014T150000
LOCATION:ISD studio (Room 2590, Lift 27-28)
SUMMARY:Repair Parties
UID:35528
END:VEVENT
BEGIN:VEVENT
DTSTAMP;TZID=Asia/Hong_Kong:20260420T185640
DTSTART;TZID=Asia/Hong_Kong:20221015T090000
DTEND;TZID=Asia/Hong_Kong:20221015T150000
LOCATION:ISD studio (Room 2590, Lift 27-28)
SUMMARY:Repair Parties
UID:35528
END:VEVENT
BEGIN:VEVENT
DTSTAMP;TZID=Asia/Hong_Kong:20260420T185640
DTSTART;TZID=Asia/Hong_Kong:20221016T090000
DTEND;TZID=Asia/Hong_Kong:20221016T150000
LOCATION:ISD studio (Room 2590, Lift 27-28)
SUMMARY:Repair Parties
UID:35528
END:VEVENT
BEGIN:VEVENT
DTSTAMP;TZID=Asia/Hong_Kong:20260420T185640
DTSTART;TZID=Asia/Hong_Kong:20221017T090000
DTEND;TZID=Asia/Hong_Kong:20221017T150000
LOCATION:ISD studio (Room 2590, Lift 27-28)
SUMMARY:Repair Parties
UID:35528
END:VEVENT
BEGIN:VEVENT
DTSTAMP;TZID=Asia/Hong_Kong:20260420T185640
DTSTART;TZID=Asia/Hong_Kong:20221018T090000
DTEND;TZID=Asia/Hong_Kong:20221018T150000
LOCATION:ISD studio (Room 2590, Lift 27-28)
SUMMARY:Repair Parties
UID:35528
END:VEVENT
BEGIN:VEVENT
DTSTAMP;TZID=Asia/Hong_Kong:20260420T185640
DTSTART;TZID=Asia/Hong_Kong:20221019T090000
DTEND;TZID=Asia/Hong_Kong:20221019T150000
LOCATION:ISD studio (Room 2590, Lift 27-28)
SUMMARY:Repair Parties
UID:35528
END:VEVENT
BEGIN:VEVENT
DTSTAMP;TZID=Asia/Hong_Kong:20260420T185640
DTSTART;TZID=Asia/Hong_Kong:20221020T090000
DTEND;TZID=Asia/Hong_Kong:20221020T150000
LOCATION:ISD studio (Room 2590, Lift 27-28)
SUMMARY:Repair Parties
UID:35528
END:VEVENT
BEGIN:VEVENT
DTSTAMP;TZID=Asia/Hong_Kong:20260420T185640
DTSTART;TZID=Asia/Hong_Kong:20221021T090000
DTEND;TZID=Asia/Hong_Kong:20221021T150000
LOCATION:ISD studio (Room 2590, Lift 27-28)
SUMMARY:Repair Parties
UID:35528
END:VEVENT
BEGIN:VEVENT
DTSTAMP;TZID=Asia/Hong_Kong:20260420T185640
DTSTART;TZID=Asia/Hong_Kong:20221022T090000
DTEND;TZID=Asia/Hong_Kong:20221022T150000
LOCATION:ISD studio (Room 2590, Lift 27-28)
SUMMARY:Repair Parties
UID:35528
END:VEVENT
BEGIN:VEVENT
DTSTAMP;TZID=Asia/Hong_Kong:20260420T185640
DTSTART;TZID=Asia/Hong_Kong:20221023T090000
DTEND;TZID=Asia/Hong_Kong:20221023T150000
LOCATION:ISD studio (Room 2590, Lift 27-28)
SUMMARY:Repair Parties
UID:35528
END:VEVENT
BEGIN:VEVENT
DTSTAMP;TZID=Asia/Hong_Kong:20260420T185640
DTSTART;TZID=Asia/Hong_Kong:20221024T090000
DTEND;TZID=Asia/Hong_Kong:20221024T150000
LOCATION:ISD studio (Room 2590, Lift 27-28)
SUMMARY:Repair Parties
UID:35528
END:VEVENT
BEGIN:VEVENT
DTSTAMP;TZID=Asia/Hong_Kong:20260420T185640
DTSTART;TZID=Asia/Hong_Kong:20221025T090000
DTEND;TZID=Asia/Hong_Kong:20221025T150000
LOCATION:ISD studio (Room 2590, Lift 27-28)
SUMMARY:Repair Parties
UID:35528
END:VEVENT
BEGIN:VEVENT
DTSTAMP;TZID=Asia/Hong_Kong:20260420T185640
DTSTART;TZID=Asia/Hong_Kong:20221026T090000
DTEND;TZID=Asia/Hong_Kong:20221026T150000
LOCATION:ISD studio (Room 2590, Lift 27-28)
SUMMARY:Repair Parties
UID:35528
END:VEVENT
BEGIN:VEVENT
DTSTAMP;TZID=Asia/Hong_Kong:20260420T185640
DTSTART;TZID=Asia/Hong_Kong:20221027T090000
DTEND;TZID=Asia/Hong_Kong:20221027T150000
LOCATION:ISD studio (Room 2590, Lift 27-28)
SUMMARY:Repair Parties
UID:35528
END:VEVENT
BEGIN:VEVENT
DTSTAMP;TZID=Asia/Hong_Kong:20260420T185640
DTSTART;TZID=Asia/Hong_Kong:20221028T090000
DTEND;TZID=Asia/Hong_Kong:20221028T150000
LOCATION:ISD studio (Room 2590, Lift 27-28)
SUMMARY:Repair Parties
UID:35528
END:VEVENT
BEGIN:VEVENT
DTSTAMP;TZID=Asia/Hong_Kong:20260420T185640
DTSTART;TZID=Asia/Hong_Kong:20221029T090000
DTEND;TZID=Asia/Hong_Kong:20221029T150000
LOCATION:ISD studio (Room 2590, Lift 27-28)
SUMMARY:Repair Parties
UID:35528
END:VEVENT
BEGIN:VEVENT
DTSTAMP;TZID=Asia/Hong_Kong:20260420T185640
DTSTART;TZID=Asia/Hong_Kong:20221030T090000
DTEND;TZID=Asia/Hong_Kong:20221030T150000
LOCATION:ISD studio (Room 2590, Lift 27-28)
SUMMARY:Repair Parties
UID:35528
END:VEVENT
BEGIN:VEVENT
DTSTAMP;TZID=Asia/Hong_Kong:20260420T185640
DTSTART;TZID=Asia/Hong_Kong:20221031T090000
DTEND;TZID=Asia/Hong_Kong:20221031T150000
LOCATION:ISD studio (Room 2590, Lift 27-28)
SUMMARY:Repair Parties
UID:35528
END:VEVENT
BEGIN:VEVENT
DTSTAMP;TZID=Asia/Hong_Kong:20260420T185640
DTSTART;TZID=Asia/Hong_Kong:20221101T090000
DTEND;TZID=Asia/Hong_Kong:20221101T150000
LOCATION:ISD studio (Room 2590, Lift 27-28)
SUMMARY:Repair Parties
UID:35528
END:VEVENT
BEGIN:VEVENT
DTSTAMP;TZID=Asia/Hong_Kong:20260420T185640
DTSTART;TZID=Asia/Hong_Kong:20221102T090000
DTEND;TZID=Asia/Hong_Kong:20221102T150000
LOCATION:ISD studio (Room 2590, Lift 27-28)
SUMMARY:Repair Parties
UID:35528
END:VEVENT
BEGIN:VEVENT
DTSTAMP;TZID=Asia/Hong_Kong:20260420T185640
DTSTART;TZID=Asia/Hong_Kong:20221103T090000
DTEND;TZID=Asia/Hong_Kong:20221103T150000
LOCATION:ISD studio (Room 2590, Lift 27-28)
SUMMARY:Repair Parties
UID:35528
END:VEVENT
BEGIN:VEVENT
DTSTAMP;TZID=Asia/Hong_Kong:20260420T185640
DTSTART;TZID=Asia/Hong_Kong:20221104T090000
DTEND;TZID=Asia/Hong_Kong:20221104T150000
LOCATION:ISD studio (Room 2590, Lift 27-28)
SUMMARY:Repair Parties
UID:35528
END:VEVENT
BEGIN:VEVENT
DTSTAMP;TZID=Asia/Hong_Kong:20260420T185640
DTSTART;TZID=Asia/Hong_Kong:20221105T090000
DTEND;TZID=Asia/Hong_Kong:20221105T150000
LOCATION:ISD studio (Room 2590, Lift 27-28)
SUMMARY:Repair Parties
UID:35528
END:VEVENT
BEGIN:VEVENT
DTSTAMP;TZID=Asia/Hong_Kong:20260420T185640
DTSTART;TZID=Asia/Hong_Kong:20221106T090000
DTEND;TZID=Asia/Hong_Kong:20221106T150000
LOCATION:ISD studio (Room 2590, Lift 27-28)
SUMMARY:Repair Parties
UID:35528
END:VEVENT
BEGIN:VEVENT
DTSTAMP;TZID=Asia/Hong_Kong:20260420T185640
DTSTART;TZID=Asia/Hong_Kong:20221107T090000
DTEND;TZID=Asia/Hong_Kong:20221107T150000
LOCATION:ISD studio (Room 2590, Lift 27-28)
SUMMARY:Repair Parties
UID:35528
END:VEVENT
BEGIN:VEVENT
DTSTAMP;TZID=Asia/Hong_Kong:20260420T185640
DTSTART;TZID=Asia/Hong_Kong:20221108T090000
DTEND;TZID=Asia/Hong_Kong:20221108T150000
LOCATION:ISD studio (Room 2590, Lift 27-28)
SUMMARY:Repair Parties
UID:35528
END:VEVENT
BEGIN:VEVENT
DTSTAMP;TZID=Asia/Hong_Kong:20260420T185640
DTSTART;TZID=Asia/Hong_Kong:20221109T090000
DTEND;TZID=Asia/Hong_Kong:20221109T150000
LOCATION:ISD studio (Room 2590, Lift 27-28)
SUMMARY:Repair Parties
UID:35528
END:VEVENT
BEGIN:VEVENT
DTSTAMP;TZID=Asia/Hong_Kong:20260420T185640
DTSTART;TZID=Asia/Hong_Kong:20221110T090000
DTEND;TZID=Asia/Hong_Kong:20221110T150000
LOCATION:ISD studio (Room 2590, Lift 27-28)
SUMMARY:Repair Parties
UID:35528
END:VEVENT
BEGIN:VEVENT
DTSTAMP;TZID=Asia/Hong_Kong:20260420T185640
DTSTART;TZID=Asia/Hong_Kong:20221111T090000
DTEND;TZID=Asia/Hong_Kong:20221111T150000
LOCATION:ISD studio (Room 2590, Lift 27-28)
SUMMARY:Repair Parties
UID:35528
END:VEVENT
BEGIN:VEVENT
DTSTAMP;TZID=Asia/Hong_Kong:20260420T185640
DTSTART;TZID=Asia/Hong_Kong:20221112T090000
DTEND;TZID=Asia/Hong_Kong:20221112T150000
LOCATION:ISD studio (Room 2590, Lift 27-28)
SUMMARY:Repair Parties
UID:35528
END:VEVENT
BEGIN:VEVENT
DTSTAMP;TZID=Asia/Hong_Kong:20260420T185640
DTSTART;TZID=Asia/Hong_Kong:20221113T090000
DTEND;TZID=Asia/Hong_Kong:20221113T150000
LOCATION:ISD studio (Room 2590, Lift 27-28)
SUMMARY:Repair Parties
UID:35528
END:VEVENT
BEGIN:VEVENT
DTSTAMP;TZID=Asia/Hong_Kong:20260420T185640
DTSTART;TZID=Asia/Hong_Kong:20221114T090000
DTEND;TZID=Asia/Hong_Kong:20221114T150000
LOCATION:ISD studio (Room 2590, Lift 27-28)
SUMMARY:Repair Parties
UID:35528
END:VEVENT
BEGIN:VEVENT
DTSTAMP;TZID=Asia/Hong_Kong:20260420T185640
DTSTART;TZID=Asia/Hong_Kong:20221115T090000
DTEND;TZID=Asia/Hong_Kong:20221115T150000
LOCATION:ISD studio (Room 2590, Lift 27-28)
SUMMARY:Repair Parties
UID:35528
END:VEVENT
BEGIN:VEVENT
DTSTAMP;TZID=Asia/Hong_Kong:20260420T185640
DTSTART;TZID=Asia/Hong_Kong:20221116T090000
DTEND;TZID=Asia/Hong_Kong:20221116T150000
LOCATION:ISD studio (Room 2590, Lift 27-28)
SUMMARY:Repair Parties
UID:35528
END:VEVENT
BEGIN:VEVENT
DTSTAMP;TZID=Asia/Hong_Kong:20260420T185640
DTSTART;TZID=Asia/Hong_Kong:20221117T090000
DTEND;TZID=Asia/Hong_Kong:20221117T150000
LOCATION:ISD studio (Room 2590, Lift 27-28)
SUMMARY:Repair Parties
UID:35528
END:VEVENT
BEGIN:VEVENT
DTSTAMP;TZID=Asia/Hong_Kong:20260420T185640
DTSTART;TZID=Asia/Hong_Kong:20221118T090000
DTEND;TZID=Asia/Hong_Kong:20221118T150000
LOCATION:ISD studio (Room 2590, Lift 27-28)
SUMMARY:Repair Parties
UID:35528
END:VEVENT
BEGIN:VEVENT
DTSTAMP;TZID=Asia/Hong_Kong:20260420T185640
DTSTART;TZID=Asia/Hong_Kong:20221119T090000
DTEND;TZID=Asia/Hong_Kong:20221119T150000
LOCATION:ISD studio (Room 2590, Lift 27-28)
SUMMARY:Repair Parties
UID:35528
END:VEVENT
BEGIN:VEVENT
DTSTAMP;TZID=Asia/Hong_Kong:20260420T185640
DTSTART;TZID=Asia/Hong_Kong:20221120T090000
DTEND;TZID=Asia/Hong_Kong:20221120T150000
LOCATION:ISD studio (Room 2590, Lift 27-28)
SUMMARY:Repair Parties
UID:35528
END:VEVENT
END:VCALENDAR