BEGIN:VCALENDAR
PRODID:-//HKUST Drupal Platform//EN
VERSION:2.0
BEGIN:VTIMEZONE
TZID:Asia/Hong_Kong
BEGIN:STANDARD
DTSTART:20071104T020000
TZOFFSETFROM:+0700
TZOFFSETTO:+0800
TZNAME:HKT
END:STANDARD
END:VTIMEZONE
BEGIN:VEVENT
DTSTAMP;TZID=Asia/Hong_Kong:20260420T153700
DTSTART;TZID=Asia/Hong_Kong:20220915T120000
DTEND;TZID=Asia/Hong_Kong:20220915T140000
LOCATION:Photo booth next to the Co-op shop in LG5 
SUMMARY:UniGreen Eats Campaign
UID:35520
END:VEVENT
BEGIN:VEVENT
DTSTAMP;TZID=Asia/Hong_Kong:20260420T153700
DTSTART;TZID=Asia/Hong_Kong:20220916T120000
DTEND;TZID=Asia/Hong_Kong:20220916T140000
LOCATION:Photo booth next to the Co-op shop in LG5 
SUMMARY:UniGreen Eats Campaign
UID:35520
END:VEVENT
BEGIN:VEVENT
DTSTAMP;TZID=Asia/Hong_Kong:20260420T153700
DTSTART;TZID=Asia/Hong_Kong:20220917T120000
DTEND;TZID=Asia/Hong_Kong:20220917T140000
LOCATION:Photo booth next to the Co-op shop in LG5 
SUMMARY:UniGreen Eats Campaign
UID:35520
END:VEVENT
BEGIN:VEVENT
DTSTAMP;TZID=Asia/Hong_Kong:20260420T153700
DTSTART;TZID=Asia/Hong_Kong:20220918T120000
DTEND;TZID=Asia/Hong_Kong:20220918T140000
LOCATION:Photo booth next to the Co-op shop in LG5 
SUMMARY:UniGreen Eats Campaign
UID:35520
END:VEVENT
BEGIN:VEVENT
DTSTAMP;TZID=Asia/Hong_Kong:20260420T153700
DTSTART;TZID=Asia/Hong_Kong:20220919T120000
DTEND;TZID=Asia/Hong_Kong:20220919T140000
LOCATION:Photo booth next to the Co-op shop in LG5 
SUMMARY:UniGreen Eats Campaign
UID:35520
END:VEVENT
BEGIN:VEVENT
DTSTAMP;TZID=Asia/Hong_Kong:20260420T153700
DTSTART;TZID=Asia/Hong_Kong:20220920T120000
DTEND;TZID=Asia/Hong_Kong:20220920T140000
LOCATION:Photo booth next to the Co-op shop in LG5 
SUMMARY:UniGreen Eats Campaign
UID:35520
END:VEVENT
BEGIN:VEVENT
DTSTAMP;TZID=Asia/Hong_Kong:20260420T153700
DTSTART;TZID=Asia/Hong_Kong:20220921T120000
DTEND;TZID=Asia/Hong_Kong:20220921T140000
LOCATION:Photo booth next to the Co-op shop in LG5 
SUMMARY:UniGreen Eats Campaign
UID:35520
END:VEVENT
BEGIN:VEVENT
DTSTAMP;TZID=Asia/Hong_Kong:20260420T153700
DTSTART;TZID=Asia/Hong_Kong:20220922T120000
DTEND;TZID=Asia/Hong_Kong:20220922T140000
LOCATION:Photo booth next to the Co-op shop in LG5 
SUMMARY:UniGreen Eats Campaign
UID:35520
END:VEVENT
BEGIN:VEVENT
DTSTAMP;TZID=Asia/Hong_Kong:20260420T153700
DTSTART;TZID=Asia/Hong_Kong:20220923T120000
DTEND;TZID=Asia/Hong_Kong:20220923T140000
LOCATION:Photo booth next to the Co-op shop in LG5 
SUMMARY:UniGreen Eats Campaign
UID:35520
END:VEVENT
BEGIN:VEVENT
DTSTAMP;TZID=Asia/Hong_Kong:20260420T153700
DTSTART;TZID=Asia/Hong_Kong:20220924T120000
DTEND;TZID=Asia/Hong_Kong:20220924T140000
LOCATION:Photo booth next to the Co-op shop in LG5 
SUMMARY:UniGreen Eats Campaign
UID:35520
END:VEVENT
BEGIN:VEVENT
DTSTAMP;TZID=Asia/Hong_Kong:20260420T153700
DTSTART;TZID=Asia/Hong_Kong:20220925T120000
DTEND;TZID=Asia/Hong_Kong:20220925T140000
LOCATION:Photo booth next to the Co-op shop in LG5 
SUMMARY:UniGreen Eats Campaign
UID:35520
END:VEVENT
BEGIN:VEVENT
DTSTAMP;TZID=Asia/Hong_Kong:20260420T153700
DTSTART;TZID=Asia/Hong_Kong:20220926T120000
DTEND;TZID=Asia/Hong_Kong:20220926T140000
LOCATION:Photo booth next to the Co-op shop in LG5 
SUMMARY:UniGreen Eats Campaign
UID:35520
END:VEVENT
BEGIN:VEVENT
DTSTAMP;TZID=Asia/Hong_Kong:20260420T153700
DTSTART;TZID=Asia/Hong_Kong:20220927T120000
DTEND;TZID=Asia/Hong_Kong:20220927T140000
LOCATION:Photo booth next to the Co-op shop in LG5 
SUMMARY:UniGreen Eats Campaign
UID:35520
END:VEVENT
BEGIN:VEVENT
DTSTAMP;TZID=Asia/Hong_Kong:20260420T153700
DTSTART;TZID=Asia/Hong_Kong:20220928T120000
DTEND;TZID=Asia/Hong_Kong:20220928T140000
LOCATION:Photo booth next to the Co-op shop in LG5 
SUMMARY:UniGreen Eats Campaign
UID:35520
END:VEVENT
BEGIN:VEVENT
DTSTAMP;TZID=Asia/Hong_Kong:20260420T153700
DTSTART;TZID=Asia/Hong_Kong:20220929T120000
DTEND;TZID=Asia/Hong_Kong:20220929T140000
LOCATION:Photo booth next to the Co-op shop in LG5 
SUMMARY:UniGreen Eats Campaign
UID:35520
END:VEVENT
END:VCALENDAR