BEGIN:VCALENDAR
PRODID:-//HKUST Drupal Platform//EN
VERSION:2.0
BEGIN:VTIMEZONE
TZID:Asia/Hong_Kong
BEGIN:STANDARD
DTSTART:20071104T020000
TZOFFSETFROM:+0700
TZOFFSETTO:+0800
TZNAME:HKT
END:STANDARD
END:VTIMEZONE
BEGIN:VEVENT
DTSTAMP;TZID=Asia/Hong_Kong:20260420T232820
DTSTART;TZID=Asia/Hong_Kong:20220830T110000
DTEND;TZID=Asia/Hong_Kong:20220830T123000
LOCATION:Room 4504, 4/F, Lift 25/26, Academic Building, HKUST
SUMMARY:Department of Chemistry - Seminar - First Principles and Machine Learning Studies of Water and Carbon in a Large Pressure-temperature Range
UID:35215
END:VEVENT
END:VCALENDAR