BEGIN:VCALENDAR
PRODID:-//HKUST Drupal Platform//EN
VERSION:2.0
BEGIN:VTIMEZONE
TZID:Asia/Hong_Kong
BEGIN:STANDARD
DTSTART:20071104T020000
TZOFFSETFROM:+0700
TZOFFSETTO:+0800
TZNAME:HKT
END:STANDARD
END:VTIMEZONE
BEGIN:VEVENT
DTSTAMP;TZID=Asia/Hong_Kong:20260420T153655
DTSTART;TZID=Asia/Hong_Kong:20220822T160000
DTEND;TZID=Asia/Hong_Kong:20220822T190000
LOCATION:Zoom Meeting ID : 222-166-8888, no passcode, HKUST
SUMMARY:PHD in Civil Engineering - Mechanisms and design of steel baffle with footing subjected to boulder impact
UID:35055
END:VEVENT
END:VCALENDAR