BEGIN:VCALENDAR
PRODID:-//HKUST Drupal Platform//EN
VERSION:2.0
BEGIN:VTIMEZONE
TZID:Asia/Hong_Kong
BEGIN:STANDARD
DTSTART:20071104T020000
TZOFFSETFROM:+0700
TZOFFSETTO:+0800
TZNAME:HKT
END:STANDARD
END:VTIMEZONE
BEGIN:VEVENT
DTSTAMP;TZID=Asia/Hong_Kong:20260420T153655
DTSTART;TZID=Asia/Hong_Kong:20220810T160000
DTEND;TZID=Asia/Hong_Kong:20220810T190000
LOCATION:Zoom Meeting ID: 222-166-8888, No passcode, HKUST
SUMMARY:PHD in Civil Engineering - Investigation of Unsaturated Slope Response to Freeze-thaw Cycles: Centrifuge Modelling
UID:35024
END:VEVENT
END:VCALENDAR