BEGIN:VCALENDAR
PRODID:-//HKUST Drupal Platform//EN
VERSION:2.0
BEGIN:VTIMEZONE
TZID:Asia/Hong_Kong
BEGIN:STANDARD
DTSTART:20071104T020000
TZOFFSETFROM:+0700
TZOFFSETTO:+0800
TZNAME:HKT
END:STANDARD
END:VTIMEZONE
BEGIN:VEVENT
DTSTAMP;TZID=Asia/Hong_Kong:20260421T022859
DTSTART;TZID=Asia/Hong_Kong:20220609T103000
DTEND;TZID=Asia/Hong_Kong:20220609T113000
LOCATION:Online
SUMMARY:Department of Chemistry - PhD Student Seminar - The Cathode Material of Lithium Ion Battery
UID:34624
END:VEVENT
END:VCALENDAR