BEGIN:VCALENDAR
PRODID:-//HKUST Drupal Platform//EN
VERSION:2.0
BEGIN:VTIMEZONE
TZID:Asia/Hong_Kong
BEGIN:STANDARD
DTSTART:20071104T020000
TZOFFSETFROM:+0700
TZOFFSETTO:+0800
TZNAME:HKT
END:STANDARD
END:VTIMEZONE
BEGIN:VEVENT
DTSTAMP;TZID=Asia/Hong_Kong:20260420T155157
DTSTART;TZID=Asia/Hong_Kong:20220527T153000
DTEND;TZID=Asia/Hong_Kong:20220527T163000
LOCATION:TBC
SUMMARY:OCES Departmental Seminar: Environmental stress on early life stages of fish
UID:34518
END:VEVENT
END:VCALENDAR