BEGIN:VCALENDAR
PRODID:-//HKUST Drupal Platform//EN
VERSION:2.0
BEGIN:VTIMEZONE
TZID:Asia/Hong_Kong
BEGIN:STANDARD
DTSTART:20071104T020000
TZOFFSETFROM:+0700
TZOFFSETTO:+0800
TZNAME:HKT
END:STANDARD
END:VTIMEZONE
BEGIN:VEVENT
DTSTAMP;TZID=Asia/Hong_Kong:20260420T165421
DTSTART;TZID=Asia/Hong_Kong:20220520T150000
DTEND;TZID=Asia/Hong_Kong:20220520T160000
LOCATION:Online
SUMMARY:5th STARS Progroamme  - STARS Programme Cohort 5: PropTech + ESG Upskilling Workshop - \"Government Funding Schemes, Intellectual Property & Q-Mark Schemes\"
UID:34507
END:VEVENT
END:VCALENDAR