BEGIN:VCALENDAR
PRODID:-//HKUST Drupal Platform//EN
VERSION:2.0
BEGIN:VTIMEZONE
TZID:Asia/Hong_Kong
BEGIN:STANDARD
DTSTART:20071104T020000
TZOFFSETFROM:+0700
TZOFFSETTO:+0800
TZNAME:HKT
END:STANDARD
END:VTIMEZONE
BEGIN:VEVENT
DTSTAMP;TZID=Asia/Hong_Kong:20260426T103407
DTSTART;TZID=Asia/Hong_Kong:20220408T110000
DTEND;TZID=Asia/Hong_Kong:20220408T123000
LOCATION:Zoom
SUMMARY:ENTR U Speaker Series  - A Conversation with Mr. Yat Siu, Animoca Brands | The journey, NFT-Centric Investment and Future of Learning
UID:34169
END:VEVENT
END:VCALENDAR