BEGIN:VCALENDAR
PRODID:-//HKUST Drupal Platform//EN
VERSION:2.0
BEGIN:VTIMEZONE
TZID:Asia/Hong_Kong
BEGIN:STANDARD
DTSTART:20071104T020000
TZOFFSETFROM:+0700
TZOFFSETTO:+0800
TZNAME:HKT
END:STANDARD
END:VTIMEZONE
BEGIN:VEVENT
DTSTAMP;TZID=Asia/Hong_Kong:20260420T192604
DTSTART;TZID=Asia/Hong_Kong:20220320T000000
DTEND;TZID=Asia/Hong_Kong:20220612T235900
SUMMARY:Jockey Club Sustainable Campus Consumer Programme  - SDG#12 GAMIthon
UID:34134
END:VEVENT
END:VCALENDAR