BEGIN:VCALENDAR
PRODID:-//HKUST Drupal Platform//EN
VERSION:2.0
BEGIN:VTIMEZONE
TZID:Asia/Hong_Kong
BEGIN:STANDARD
DTSTART:20071104T020000
TZOFFSETFROM:+0700
TZOFFSETTO:+0800
TZNAME:HKT
END:STANDARD
END:VTIMEZONE
BEGIN:VEVENT
DTSTAMP;TZID=Asia/Hong_Kong:20260420T214609
DTSTART;TZID=Asia/Hong_Kong:20220315T000000
DTEND;TZID=Asia/Hong_Kong:20220325T235900
SUMMARY:APRU Student Global Climate Change Simulation 
UID:34072
END:VEVENT
END:VCALENDAR