BEGIN:VCALENDAR
PRODID:-//HKUST Drupal Platform//EN
VERSION:2.0
BEGIN:VTIMEZONE
TZID:Asia/Hong_Kong
BEGIN:STANDARD
DTSTART:20071104T020000
TZOFFSETFROM:+0700
TZOFFSETTO:+0800
TZNAME:HKT
END:STANDARD
END:VTIMEZONE
BEGIN:VEVENT
DTSTAMP;TZID=Asia/Hong_Kong:20260420T153655
DTSTART;TZID=Asia/Hong_Kong:20220216T153000
DTEND;TZID=Asia/Hong_Kong:20220216T180000
LOCATION:Online
SUMMARY:環保基金紀錄播客 - 線上放映會 ECF Green Doc Podcast & Screening - Online Screening
UID:33920
END:VEVENT
BEGIN:VEVENT
DTSTAMP;TZID=Asia/Hong_Kong:20260420T153655
DTSTART;TZID=Asia/Hong_Kong:20220217T153000
DTEND;TZID=Asia/Hong_Kong:20220217T180000
LOCATION:Online
SUMMARY:環保基金紀錄播客 - 線上放映會 ECF Green Doc Podcast & Screening - Online Screening
UID:33920
END:VEVENT
END:VCALENDAR