BEGIN:VCALENDAR
PRODID:-//HKUST Drupal Platform//EN
VERSION:2.0
BEGIN:VTIMEZONE
TZID:Asia/Hong_Kong
BEGIN:STANDARD
DTSTART:20071104T020000
TZOFFSETFROM:+0700
TZOFFSETTO:+0800
TZNAME:HKT
END:STANDARD
END:VTIMEZONE
BEGIN:VEVENT
DTSTAMP;TZID=Asia/Hong_Kong:20260422T204403
DTSTART;TZID=Asia/Hong_Kong:20220118T140000
DTEND;TZID=Asia/Hong_Kong:20220118T150000
LOCATION:Zoom ID: 992 7218 2843, Passcode: dsat 
SUMMARY:DSA Thrust Seminar | Automated Scientific Knowledge Extraction from Massive Text Data  
UID:33755
END:VEVENT
END:VCALENDAR