BEGIN:VCALENDAR
PRODID:-//HKUST Drupal Platform//EN
VERSION:2.0
BEGIN:VTIMEZONE
TZID:Asia/Hong_Kong
BEGIN:STANDARD
DTSTART:20071104T020000
TZOFFSETFROM:+0700
TZOFFSETTO:+0800
TZNAME:HKT
END:STANDARD
END:VTIMEZONE
BEGIN:VEVENT
DTSTAMP;TZID=Asia/Hong_Kong:20260420T185814
DTSTART;TZID=Asia/Hong_Kong:20220603T000000
DTEND;TZID=Asia/Hong_Kong:20220610T235900
LOCATION:HKUST Clear Water Bay Campus 
SUMMARY:Sustainable Smart Campus Net-Zero Journey: Innovation Challenge   - Boundless Discovery with New Friends | Clear Water Bay X Guangzhou    
UID:33740
END:VEVENT
END:VCALENDAR