BEGIN:VCALENDAR
PRODID:-//HKUST Drupal Platform//EN
VERSION:2.0
BEGIN:VTIMEZONE
TZID:Asia/Hong_Kong
BEGIN:STANDARD
DTSTART:20071104T020000
TZOFFSETFROM:+0700
TZOFFSETTO:+0800
TZNAME:HKT
END:STANDARD
END:VTIMEZONE
BEGIN:VEVENT
DTSTAMP;TZID=Asia/Hong_Kong:20260421T023817
DTSTART;TZID=Asia/Hong_Kong:20220106T103000
DTEND;TZID=Asia/Hong_Kong:20220106T120000
LOCATION:Room 2405, 2/F, Lift 17/18, Academic Building, HKUST
SUMMARY:Chemical Biology Seminar Series  -                                           Department of Chemistry Seminar - Integrative Chemical Biology Approaches to Deciphering the Histone Code: A Problem-Driven Journey
UID:33730
END:VEVENT
END:VCALENDAR