BEGIN:VCALENDAR
PRODID:-//HKUST Drupal Platform//EN
VERSION:2.0
BEGIN:VTIMEZONE
TZID:Asia/Hong_Kong
BEGIN:STANDARD
DTSTART:20071104T020000
TZOFFSETFROM:+0700
TZOFFSETTO:+0800
TZNAME:HKT
END:STANDARD
END:VTIMEZONE
BEGIN:VEVENT
DTSTAMP;TZID=Asia/Hong_Kong:20260420T165419
DTSTART;TZID=Asia/Hong_Kong:20220119T150000
DTEND;TZID=Asia/Hong_Kong:20220119T180000
LOCATION:Meeting ID :584-874-2019, Passcode:  123456, HKUST
SUMMARY:PHD in Civil Engineering - Removal of Antibiotic Resistant Bacteria and Their Resistance Genes by The Novel Disinfection Systems, Involving UV-LED, Electrochemical and C/UV-AOP Processes
UID:33631
END:VEVENT
END:VCALENDAR