BEGIN:VCALENDAR
PRODID:-//HKUST Drupal Platform//EN
VERSION:2.0
BEGIN:VTIMEZONE
TZID:Asia/Hong_Kong
BEGIN:STANDARD
DTSTART:20071104T020000
TZOFFSETFROM:+0700
TZOFFSETTO:+0800
TZNAME:HKT
END:STANDARD
END:VTIMEZONE
BEGIN:VEVENT
DTSTAMP;TZID=Asia/Hong_Kong:20260421T023818
DTSTART;TZID=Asia/Hong_Kong:20211201T140000
DTEND;TZID=Asia/Hong_Kong:20211201T150000
LOCATION:Online
SUMMARY:Department of Chemistry - PhD Student Seminar - Soy Sauce: An Insight into the Health Benefits and Risks
UID:29541
END:VEVENT
END:VCALENDAR