BEGIN:VCALENDAR
PRODID:-//HKUST Drupal Platform//EN
VERSION:2.0
BEGIN:VTIMEZONE
TZID:Asia/Hong_Kong
BEGIN:STANDARD
DTSTART:20071104T020000
TZOFFSETFROM:+0700
TZOFFSETTO:+0800
TZNAME:HKT
END:STANDARD
END:VTIMEZONE
BEGIN:VEVENT
DTSTAMP;TZID=Asia/Hong_Kong:20260422T153005
DTSTART;TZID=Asia/Hong_Kong:20211115T000000
DTEND;TZID=Asia/Hong_Kong:20221114T235900
SUMMARY:Call for Expression of Interest - Frontier Technology Project Fund & Engineering Project Fund- HKUST Collaborative Innovation Center (HCIC)
UID:29299
END:VEVENT
END:VCALENDAR