BEGIN:VCALENDAR
PRODID:-//HKUST Drupal Platform//EN
VERSION:2.0
BEGIN:VTIMEZONE
TZID:Asia/Hong_Kong
BEGIN:STANDARD
DTSTART:20071104T020000
TZOFFSETFROM:+0700
TZOFFSETTO:+0800
TZNAME:HKT
END:STANDARD
END:VTIMEZONE
BEGIN:VEVENT
DTSTAMP;TZID=Asia/Hong_Kong:20260420T153659
DTSTART;TZID=Asia/Hong_Kong:20211021T190000
DTEND;TZID=Asia/Hong_Kong:20211021T230000
LOCATION:Tsang Shiu Tim Art Hall, HKUST
SUMMARY:2021 搶耳校園展演 - 香港科技大學站 Ear Up School Showcase - HKUST
UID:29088
END:VEVENT
END:VCALENDAR