BEGIN:VCALENDAR
PRODID:-//HKUST Drupal Platform//EN
VERSION:2.0
BEGIN:VTIMEZONE
TZID:Asia/Hong_Kong
BEGIN:STANDARD
DTSTART:20071104T020000
TZOFFSETFROM:+0700
TZOFFSETTO:+0800
TZNAME:HKT
END:STANDARD
END:VTIMEZONE
BEGIN:VEVENT
DTSTAMP;TZID=Asia/Hong_Kong:20260420T143142
DTSTART;TZID=Asia/Hong_Kong:20210928T180000
DTEND;TZID=Asia/Hong_Kong:20210928T193000
LOCATION:Room 4334 (via Lift 3) *In-class workshop with live Zoom
SUMMARY:Center for Industry Engagement & Internship (IEI), SENG and Career Center - Career Development Program Fall 2021-22 - Interview Skills Workshop
UID:29005
END:VEVENT
END:VCALENDAR