BEGIN:VCALENDAR
PRODID:-//HKUST Drupal Platform//EN
VERSION:2.0
BEGIN:VTIMEZONE
TZID:Asia/Hong_Kong
BEGIN:STANDARD
DTSTART:20071104T020000
TZOFFSETFROM:+0700
TZOFFSETTO:+0800
TZNAME:HKT
END:STANDARD
END:VTIMEZONE
BEGIN:VEVENT
DTSTAMP;TZID=Asia/Hong_Kong:20260420T163839
DTSTART;TZID=Asia/Hong_Kong:20211007T180000
DTEND;TZID=Asia/Hong_Kong:20211007T200000
LOCATION:Online
SUMMARY:Fintechstic  - Workshop 1: Hong Kong/ Asia fintech trends and how robo-advisors are impacting financial institutions
UID:28910
END:VEVENT
END:VCALENDAR