BEGIN:VCALENDAR
PRODID:-//HKUST Drupal Platform//EN
VERSION:2.0
BEGIN:VTIMEZONE
TZID:Asia/Hong_Kong
BEGIN:STANDARD
DTSTART:20071104T020000
TZOFFSETFROM:+0700
TZOFFSETTO:+0800
TZNAME:HKT
END:STANDARD
END:VTIMEZONE
BEGIN:VEVENT
DTSTAMP;TZID=Asia/Hong_Kong:20260420T155123
DTSTART;TZID=Asia/Hong_Kong:20210909T193000
DTEND;TZID=Asia/Hong_Kong:20210909T203000
LOCATION:Tsang Shiu Tim Art Hall
SUMMARY:Promenade Concert by University Philharmonic Orchestra, HKUSTSU
UID:28785
END:VEVENT
END:VCALENDAR