BEGIN:VCALENDAR
PRODID:-//HKUST Drupal Platform//EN
VERSION:2.0
BEGIN:VTIMEZONE
TZID:Asia/Hong_Kong
BEGIN:STANDARD
DTSTART:20071104T020000
TZOFFSETFROM:+0700
TZOFFSETTO:+0800
TZNAME:HKT
END:STANDARD
END:VTIMEZONE
BEGIN:VEVENT
DTSTAMP;TZID=Asia/Hong_Kong:20260420T155158
DTSTART;TZID=Asia/Hong_Kong:20210818T140000
DTEND;TZID=Asia/Hong_Kong:20210818T170000
LOCATION:Meeting ID: 967 7077 1389 Passcode: 959276, HKUST
SUMMARY:PHD in Civil Engineering - Multi-zone IAQ Assessment, Monitoring and Control in Buildings Leveraging BIM Technology
UID:28662
END:VEVENT
END:VCALENDAR