BEGIN:VCALENDAR
PRODID:-//HKUST Drupal Platform//EN
VERSION:2.0
BEGIN:VTIMEZONE
TZID:Asia/Hong_Kong
BEGIN:STANDARD
DTSTART:20071104T020000
TZOFFSETFROM:+0700
TZOFFSETTO:+0800
TZNAME:HKT
END:STANDARD
END:VTIMEZONE
BEGIN:VEVENT
DTSTAMP;TZID=Asia/Hong_Kong:20260421T004703
DTSTART;TZID=Asia/Hong_Kong:20210819T103000
DTEND;TZID=Asia/Hong_Kong:20210819T133000
LOCATION:Meeting ID: 924 0068 8628, Passcode: 005927, HKUST
SUMMARY:MPhil in Civil Engineering - Shear Strengthening of Reinforced Concrete Beams with Significant Corroded Stirrups using High Strength Strain-hardening Cementitious Composites (HS-SHCC)
UID:28399
END:VEVENT
END:VCALENDAR