BEGIN:VCALENDAR
PRODID:-//HKUST Drupal Platform//EN
VERSION:2.0
BEGIN:VTIMEZONE
TZID:Asia/Hong_Kong
BEGIN:STANDARD
DTSTART:20071104T020000
TZOFFSETFROM:+0700
TZOFFSETTO:+0800
TZNAME:HKT
END:STANDARD
END:VTIMEZONE
BEGIN:VEVENT
DTSTAMP;TZID=Asia/Hong_Kong:20260420T221009
DTSTART;TZID=Asia/Hong_Kong:20210630T150000
DTEND;TZID=Asia/Hong_Kong:20210630T160000
LOCATION:Online
SUMMARY:Department of Chemistry - PhD Student Seminar - Materials Chemistry for Light-Driven Micro/Nanomotors
UID:28360
END:VEVENT
END:VCALENDAR