BEGIN:VCALENDAR
PRODID:-//HKUST Drupal Platform//EN
VERSION:2.0
BEGIN:VTIMEZONE
TZID:Asia/Hong_Kong
BEGIN:STANDARD
DTSTART:20071104T020000
TZOFFSETFROM:+0700
TZOFFSETTO:+0800
TZNAME:HKT
END:STANDARD
END:VTIMEZONE
BEGIN:VEVENT
DTSTAMP;TZID=Asia/Hong_Kong:20260420T181321
DTSTART;TZID=Asia/Hong_Kong:20210617T100000
DTEND;TZID=Asia/Hong_Kong:20210617T113000
LOCATION:Online
SUMMARY:Department of Chemistry - Seminar - Developing Accurate and Efficient Force Fields to Model Phase-transfer Catalysis Near Liquid-liquid Interfaces
UID:28244
END:VEVENT
END:VCALENDAR