BEGIN:VCALENDAR
PRODID:-//HKUST Drupal Platform//EN
VERSION:2.0
BEGIN:VTIMEZONE
TZID:Asia/Hong_Kong
BEGIN:STANDARD
DTSTART:20071104T020000
TZOFFSETFROM:+0700
TZOFFSETTO:+0800
TZNAME:HKT
END:STANDARD
END:VTIMEZONE
BEGIN:VEVENT
DTSTAMP;TZID=Asia/Hong_Kong:20260420T054033
DTSTART;TZID=Asia/Hong_Kong:20210625T123000
DTEND;TZID=Asia/Hong_Kong:20210625T140000
LOCATION:Zoom
SUMMARY:GSCI Friday Seminar Series - Smart Mobility Roadmap for Hong Kong
UID:28243
END:VEVENT
END:VCALENDAR