BEGIN:VCALENDAR
PRODID:-//HKUST Drupal Platform//EN
VERSION:2.0
BEGIN:VTIMEZONE
TZID:Asia/Hong_Kong
BEGIN:STANDARD
DTSTART:20071104T020000
TZOFFSETFROM:+0700
TZOFFSETTO:+0800
TZNAME:HKT
END:STANDARD
END:VTIMEZONE
BEGIN:VEVENT
DTSTAMP;TZID=Asia/Hong_Kong:20260420T193900
DTSTART;TZID=Asia/Hong_Kong:20210528T153000
DTEND;TZID=Asia/Hong_Kong:20210528T163000
LOCATION:Online
SUMMARY:Department of Chemistry - PhD Student Seminar - Supramolecular Amphiphiles Based on Host – Guest Molecular Recognition Motifs
UID:28081
END:VEVENT
END:VCALENDAR