BEGIN:VCALENDAR
PRODID:-//HKUST Drupal Platform//EN
VERSION:2.0
BEGIN:VTIMEZONE
TZID:Asia/Hong_Kong
BEGIN:STANDARD
DTSTART:20071104T020000
TZOFFSETFROM:+0700
TZOFFSETTO:+0800
TZNAME:HKT
END:STANDARD
END:VTIMEZONE
BEGIN:VEVENT
DTSTAMP;TZID=Asia/Hong_Kong:20260420T142631
DTSTART;TZID=Asia/Hong_Kong:20210505T163000
DTEND;TZID=Asia/Hong_Kong:20210505T180000
LOCATION:Classroom 4475 (Lift 25/26) and Zoom ID : 917 7293 6013 (Passcode : DISP2021) 
SUMMARY:ECE Seminar - co-organized by SKL of ADT, SID(HK Chapter) and SID(HKUST - Student Branch)   - Realfiction Auto-Multiscopic Display   
UID:27998
END:VEVENT
END:VCALENDAR