BEGIN:VCALENDAR
PRODID:-//HKUST Drupal Platform//EN
VERSION:2.0
BEGIN:VTIMEZONE
TZID:Asia/Hong_Kong
BEGIN:STANDARD
DTSTART:20071104T020000
TZOFFSETFROM:+0700
TZOFFSETTO:+0800
TZNAME:HKT
END:STANDARD
END:VTIMEZONE
BEGIN:VEVENT
DTSTAMP;TZID=Asia/Hong_Kong:20260420T163801
DTSTART;TZID=Asia/Hong_Kong:20210408T000000
DTEND;TZID=Asia/Hong_Kong:20210408T234500
LOCATION:Online
SUMMARY:HKUST Arts Festival 2021 - Art, Despite the Pandemic - Concert V - The Splendours of Italian and German Baroque Music by Concerto da Camera
UID:27829
END:VEVENT
BEGIN:VEVENT
DTSTAMP;TZID=Asia/Hong_Kong:20260420T163801
DTSTART;TZID=Asia/Hong_Kong:20210409T000000
DTEND;TZID=Asia/Hong_Kong:20210409T234500
LOCATION:Online
SUMMARY:HKUST Arts Festival 2021 - Art, Despite the Pandemic - Concert V - The Splendours of Italian and German Baroque Music by Concerto da Camera
UID:27829
END:VEVENT
BEGIN:VEVENT
DTSTAMP;TZID=Asia/Hong_Kong:20260420T163801
DTSTART;TZID=Asia/Hong_Kong:20210410T000000
DTEND;TZID=Asia/Hong_Kong:20210410T234500
LOCATION:Online
SUMMARY:HKUST Arts Festival 2021 - Art, Despite the Pandemic - Concert V - The Splendours of Italian and German Baroque Music by Concerto da Camera
UID:27829
END:VEVENT
BEGIN:VEVENT
DTSTAMP;TZID=Asia/Hong_Kong:20260420T163801
DTSTART;TZID=Asia/Hong_Kong:20210411T000000
DTEND;TZID=Asia/Hong_Kong:20210411T234500
LOCATION:Online
SUMMARY:HKUST Arts Festival 2021 - Art, Despite the Pandemic - Concert V - The Splendours of Italian and German Baroque Music by Concerto da Camera
UID:27829
END:VEVENT
BEGIN:VEVENT
DTSTAMP;TZID=Asia/Hong_Kong:20260420T163801
DTSTART;TZID=Asia/Hong_Kong:20210412T000000
DTEND;TZID=Asia/Hong_Kong:20210412T234500
LOCATION:Online
SUMMARY:HKUST Arts Festival 2021 - Art, Despite the Pandemic - Concert V - The Splendours of Italian and German Baroque Music by Concerto da Camera
UID:27829
END:VEVENT
BEGIN:VEVENT
DTSTAMP;TZID=Asia/Hong_Kong:20260420T163801
DTSTART;TZID=Asia/Hong_Kong:20210413T000000
DTEND;TZID=Asia/Hong_Kong:20210413T234500
LOCATION:Online
SUMMARY:HKUST Arts Festival 2021 - Art, Despite the Pandemic - Concert V - The Splendours of Italian and German Baroque Music by Concerto da Camera
UID:27829
END:VEVENT
BEGIN:VEVENT
DTSTAMP;TZID=Asia/Hong_Kong:20260420T163801
DTSTART;TZID=Asia/Hong_Kong:20210414T000000
DTEND;TZID=Asia/Hong_Kong:20210414T234500
LOCATION:Online
SUMMARY:HKUST Arts Festival 2021 - Art, Despite the Pandemic - Concert V - The Splendours of Italian and German Baroque Music by Concerto da Camera
UID:27829
END:VEVENT
END:VCALENDAR