BEGIN:VCALENDAR
PRODID:-//HKUST Drupal Platform//EN
VERSION:2.0
BEGIN:VTIMEZONE
TZID:Asia/Hong_Kong
BEGIN:STANDARD
DTSTART:20071104T020000
TZOFFSETFROM:+0700
TZOFFSETTO:+0800
TZNAME:HKT
END:STANDARD
END:VTIMEZONE
BEGIN:VEVENT
DTSTAMP;TZID=Asia/Hong_Kong:20260420T132907
DTSTART;TZID=Asia/Hong_Kong:20210412T180000
DTEND;TZID=Asia/Hong_Kong:20210412T190000
LOCATION:Online (via Zoom)
SUMMARY:IEI presents \'Old Boys’ Talk: Technology Career in Finance\'
UID:27818
END:VEVENT
END:VCALENDAR