BEGIN:VCALENDAR
PRODID:-//HKUST Drupal Platform//EN
VERSION:2.0
BEGIN:VTIMEZONE
TZID:Asia/Hong_Kong
BEGIN:STANDARD
DTSTART:20071104T020000
TZOFFSETFROM:+0700
TZOFFSETTO:+0800
TZNAME:HKT
END:STANDARD
END:VTIMEZONE
BEGIN:VEVENT
DTSTAMP;TZID=Asia/Hong_Kong:20260420T181316
DTSTART;TZID=Asia/Hong_Kong:20210316T103000
DTEND;TZID=Asia/Hong_Kong:20210316T114500
LOCATION:Online
SUMMARY:CHEM Seminar - Development of Multi-Component Alkyne Polymerization Routes to Functional Macromolecules
UID:27688
END:VEVENT
END:VCALENDAR