BEGIN:VCALENDAR
PRODID:-//HKUST Drupal Platform//EN
VERSION:2.0
BEGIN:VTIMEZONE
TZID:Asia/Hong_Kong
BEGIN:STANDARD
DTSTART:20071104T020000
TZOFFSETFROM:+0700
TZOFFSETTO:+0800
TZNAME:HKT
END:STANDARD
END:VTIMEZONE
BEGIN:VEVENT
DTSTAMP;TZID=Asia/Hong_Kong:20260420T221007
DTSTART;TZID=Asia/Hong_Kong:20210304T130000
DTEND;TZID=Asia/Hong_Kong:20210304T140000
LOCATION:Online Via Zoom 
SUMMARY:UNIfy: Sustainable Living # NewNormal Edition     - Exercise Snacking - Your Future Exercise Trend
UID:27560
END:VEVENT
END:VCALENDAR