BEGIN:VCALENDAR
PRODID:-//HKUST Drupal Platform//EN
VERSION:2.0
BEGIN:VTIMEZONE
TZID:Asia/Hong_Kong
BEGIN:STANDARD
DTSTART:20071104T020000
TZOFFSETFROM:+0700
TZOFFSETTO:+0800
TZNAME:HKT
END:STANDARD
END:VTIMEZONE
BEGIN:VEVENT
DTSTAMP;TZID=Asia/Hong_Kong:20260420T142614
DTSTART;TZID=Asia/Hong_Kong:20201202T000000
DTEND;TZID=Asia/Hong_Kong:20201202T234500
LOCATION:Online
SUMMARY:Tips For Music Appreciation - Episode 4 - Baroque - The bizarre pearl
UID:27238
END:VEVENT
BEGIN:VEVENT
DTSTAMP;TZID=Asia/Hong_Kong:20260420T142614
DTSTART;TZID=Asia/Hong_Kong:20201203T000000
DTEND;TZID=Asia/Hong_Kong:20201203T234500
LOCATION:Online
SUMMARY:Tips For Music Appreciation - Episode 4 - Baroque - The bizarre pearl
UID:27238
END:VEVENT
BEGIN:VEVENT
DTSTAMP;TZID=Asia/Hong_Kong:20260420T142614
DTSTART;TZID=Asia/Hong_Kong:20201204T000000
DTEND;TZID=Asia/Hong_Kong:20201204T234500
LOCATION:Online
SUMMARY:Tips For Music Appreciation - Episode 4 - Baroque - The bizarre pearl
UID:27238
END:VEVENT
BEGIN:VEVENT
DTSTAMP;TZID=Asia/Hong_Kong:20260420T142614
DTSTART;TZID=Asia/Hong_Kong:20201205T000000
DTEND;TZID=Asia/Hong_Kong:20201205T234500
LOCATION:Online
SUMMARY:Tips For Music Appreciation - Episode 4 - Baroque - The bizarre pearl
UID:27238
END:VEVENT
BEGIN:VEVENT
DTSTAMP;TZID=Asia/Hong_Kong:20260420T142614
DTSTART;TZID=Asia/Hong_Kong:20201206T000000
DTEND;TZID=Asia/Hong_Kong:20201206T234500
LOCATION:Online
SUMMARY:Tips For Music Appreciation - Episode 4 - Baroque - The bizarre pearl
UID:27238
END:VEVENT
BEGIN:VEVENT
DTSTAMP;TZID=Asia/Hong_Kong:20260420T142614
DTSTART;TZID=Asia/Hong_Kong:20201207T000000
DTEND;TZID=Asia/Hong_Kong:20201207T234500
LOCATION:Online
SUMMARY:Tips For Music Appreciation - Episode 4 - Baroque - The bizarre pearl
UID:27238
END:VEVENT
BEGIN:VEVENT
DTSTAMP;TZID=Asia/Hong_Kong:20260420T142614
DTSTART;TZID=Asia/Hong_Kong:20201208T000000
DTEND;TZID=Asia/Hong_Kong:20201208T234500
LOCATION:Online
SUMMARY:Tips For Music Appreciation - Episode 4 - Baroque - The bizarre pearl
UID:27238
END:VEVENT
BEGIN:VEVENT
DTSTAMP;TZID=Asia/Hong_Kong:20260420T142614
DTSTART;TZID=Asia/Hong_Kong:20201209T000000
DTEND;TZID=Asia/Hong_Kong:20201209T234500
LOCATION:Online
SUMMARY:Tips For Music Appreciation - Episode 4 - Baroque - The bizarre pearl
UID:27238
END:VEVENT
END:VCALENDAR