BEGIN:VCALENDAR
PRODID:-//HKUST Drupal Platform//EN
VERSION:2.0
BEGIN:VTIMEZONE
TZID:Asia/Hong_Kong
BEGIN:STANDARD
DTSTART:20071104T020000
TZOFFSETFROM:+0700
TZOFFSETTO:+0800
TZNAME:HKT
END:STANDARD
END:VTIMEZONE
BEGIN:VEVENT
DTSTAMP;TZID=Asia/Hong_Kong:20260420T132907
DTSTART;TZID=Asia/Hong_Kong:20201207T083000
DTEND;TZID=Asia/Hong_Kong:20201207T183000
LOCATION:Webinar
SUMMARY:The 8th International Conference on Innovative Production and Construction (IPC 2020) and The 8th International Conference on Construction Engineering and Project Management (ICCEPM 2020) - \"Towards Advancement in Technologies and Processes for Smart Buildings and Construction\"
UID:27225
END:VEVENT
BEGIN:VEVENT
DTSTAMP;TZID=Asia/Hong_Kong:20260420T132907
DTSTART;TZID=Asia/Hong_Kong:20201208T083000
DTEND;TZID=Asia/Hong_Kong:20201208T183000
LOCATION:Webinar
SUMMARY:The 8th International Conference on Innovative Production and Construction (IPC 2020) and The 8th International Conference on Construction Engineering and Project Management (ICCEPM 2020) - \"Towards Advancement in Technologies and Processes for Smart Buildings and Construction\"
UID:27225
END:VEVENT
END:VCALENDAR