BEGIN:VCALENDAR
PRODID:-//HKUST Drupal Platform//EN
VERSION:2.0
BEGIN:VTIMEZONE
TZID:Asia/Hong_Kong
BEGIN:STANDARD
DTSTART:20071104T020000
TZOFFSETFROM:+0700
TZOFFSETTO:+0800
TZNAME:HKT
END:STANDARD
END:VTIMEZONE
BEGIN:VEVENT
DTSTAMP;TZID=Asia/Hong_Kong:20260420T142615
DTSTART;TZID=Asia/Hong_Kong:20201118T000000
DTEND;TZID=Asia/Hong_Kong:20201118T234500
LOCATION:Online
SUMMARY:Tips For Music Appreciation - Episode 2 - Medieval – Let there be light
UID:27169
END:VEVENT
BEGIN:VEVENT
DTSTAMP;TZID=Asia/Hong_Kong:20260420T142615
DTSTART;TZID=Asia/Hong_Kong:20201119T000000
DTEND;TZID=Asia/Hong_Kong:20201119T234500
LOCATION:Online
SUMMARY:Tips For Music Appreciation - Episode 2 - Medieval – Let there be light
UID:27169
END:VEVENT
BEGIN:VEVENT
DTSTAMP;TZID=Asia/Hong_Kong:20260420T142615
DTSTART;TZID=Asia/Hong_Kong:20201120T000000
DTEND;TZID=Asia/Hong_Kong:20201120T234500
LOCATION:Online
SUMMARY:Tips For Music Appreciation - Episode 2 - Medieval – Let there be light
UID:27169
END:VEVENT
BEGIN:VEVENT
DTSTAMP;TZID=Asia/Hong_Kong:20260420T142615
DTSTART;TZID=Asia/Hong_Kong:20201121T000000
DTEND;TZID=Asia/Hong_Kong:20201121T234500
LOCATION:Online
SUMMARY:Tips For Music Appreciation - Episode 2 - Medieval – Let there be light
UID:27169
END:VEVENT
BEGIN:VEVENT
DTSTAMP;TZID=Asia/Hong_Kong:20260420T142615
DTSTART;TZID=Asia/Hong_Kong:20201122T000000
DTEND;TZID=Asia/Hong_Kong:20201122T234500
LOCATION:Online
SUMMARY:Tips For Music Appreciation - Episode 2 - Medieval – Let there be light
UID:27169
END:VEVENT
BEGIN:VEVENT
DTSTAMP;TZID=Asia/Hong_Kong:20260420T142615
DTSTART;TZID=Asia/Hong_Kong:20201123T000000
DTEND;TZID=Asia/Hong_Kong:20201123T234500
LOCATION:Online
SUMMARY:Tips For Music Appreciation - Episode 2 - Medieval – Let there be light
UID:27169
END:VEVENT
BEGIN:VEVENT
DTSTAMP;TZID=Asia/Hong_Kong:20260420T142615
DTSTART;TZID=Asia/Hong_Kong:20201124T000000
DTEND;TZID=Asia/Hong_Kong:20201124T234500
LOCATION:Online
SUMMARY:Tips For Music Appreciation - Episode 2 - Medieval – Let there be light
UID:27169
END:VEVENT
BEGIN:VEVENT
DTSTAMP;TZID=Asia/Hong_Kong:20260420T142615
DTSTART;TZID=Asia/Hong_Kong:20201125T000000
DTEND;TZID=Asia/Hong_Kong:20201125T234500
LOCATION:Online
SUMMARY:Tips For Music Appreciation - Episode 2 - Medieval – Let there be light
UID:27169
END:VEVENT
END:VCALENDAR