BEGIN:VCALENDAR
PRODID:-//HKUST Drupal Platform//EN
VERSION:2.0
BEGIN:VTIMEZONE
TZID:Asia/Hong_Kong
BEGIN:STANDARD
DTSTART:20071104T020000
TZOFFSETFROM:+0700
TZOFFSETTO:+0800
TZNAME:HKT
END:STANDARD
END:VTIMEZONE
BEGIN:VEVENT
DTSTAMP;TZID=Asia/Hong_Kong:20260420T142615
DTSTART;TZID=Asia/Hong_Kong:20201218T100000
DTEND;TZID=Asia/Hong_Kong:20201218T130000
LOCATION:Meeting ID: 933 2717 4370 Passcode: 12345, HKUST
SUMMARY:PHD in Civil Engineering - Photocatalytic Disinfection of Bacteria: From Magnetically Recyclable TiO2-based photocatalysts to Challenges of Water Characteristics and Different Bacterial Responses
UID:27033
END:VEVENT
END:VCALENDAR