BEGIN:VCALENDAR
PRODID:-//HKUST Drupal Platform//EN
VERSION:2.0
BEGIN:VTIMEZONE
TZID:Asia/Hong_Kong
BEGIN:STANDARD
DTSTART:20071104T020000
TZOFFSETFROM:+0700
TZOFFSETTO:+0800
TZNAME:HKT
END:STANDARD
END:VTIMEZONE
BEGIN:VEVENT
DTSTAMP;TZID=Asia/Hong_Kong:20260420T192511
DTSTART;TZID=Asia/Hong_Kong:20201012T000000
DTEND;TZID=Asia/Hong_Kong:20201012T235900
LOCATION:Online
SUMMARY:LAST CALL: Social Entrepreneurship Challenge: Innovating for Social Good!
UID:26936
END:VEVENT
BEGIN:VEVENT
DTSTAMP;TZID=Asia/Hong_Kong:20260420T192511
DTSTART;TZID=Asia/Hong_Kong:20201013T000000
DTEND;TZID=Asia/Hong_Kong:20201013T235900
LOCATION:Online
SUMMARY:LAST CALL: Social Entrepreneurship Challenge: Innovating for Social Good!
UID:26936
END:VEVENT
BEGIN:VEVENT
DTSTAMP;TZID=Asia/Hong_Kong:20260420T192511
DTSTART;TZID=Asia/Hong_Kong:20201014T000000
DTEND;TZID=Asia/Hong_Kong:20201014T235900
LOCATION:Online
SUMMARY:LAST CALL: Social Entrepreneurship Challenge: Innovating for Social Good!
UID:26936
END:VEVENT
BEGIN:VEVENT
DTSTAMP;TZID=Asia/Hong_Kong:20260420T192511
DTSTART;TZID=Asia/Hong_Kong:20201015T000000
DTEND;TZID=Asia/Hong_Kong:20201015T235900
LOCATION:Online
SUMMARY:LAST CALL: Social Entrepreneurship Challenge: Innovating for Social Good!
UID:26936
END:VEVENT
BEGIN:VEVENT
DTSTAMP;TZID=Asia/Hong_Kong:20260420T192511
DTSTART;TZID=Asia/Hong_Kong:20201016T000000
DTEND;TZID=Asia/Hong_Kong:20201016T235900
LOCATION:Online
SUMMARY:LAST CALL: Social Entrepreneurship Challenge: Innovating for Social Good!
UID:26936
END:VEVENT
BEGIN:VEVENT
DTSTAMP;TZID=Asia/Hong_Kong:20260420T192511
DTSTART;TZID=Asia/Hong_Kong:20201017T000000
DTEND;TZID=Asia/Hong_Kong:20201017T235900
LOCATION:Online
SUMMARY:LAST CALL: Social Entrepreneurship Challenge: Innovating for Social Good!
UID:26936
END:VEVENT
BEGIN:VEVENT
DTSTAMP;TZID=Asia/Hong_Kong:20260420T192511
DTSTART;TZID=Asia/Hong_Kong:20201018T000000
DTEND;TZID=Asia/Hong_Kong:20201018T235900
LOCATION:Online
SUMMARY:LAST CALL: Social Entrepreneurship Challenge: Innovating for Social Good!
UID:26936
END:VEVENT
BEGIN:VEVENT
DTSTAMP;TZID=Asia/Hong_Kong:20260420T192511
DTSTART;TZID=Asia/Hong_Kong:20201019T000000
DTEND;TZID=Asia/Hong_Kong:20201019T235900
LOCATION:Online
SUMMARY:LAST CALL: Social Entrepreneurship Challenge: Innovating for Social Good!
UID:26936
END:VEVENT
BEGIN:VEVENT
DTSTAMP;TZID=Asia/Hong_Kong:20260420T192511
DTSTART;TZID=Asia/Hong_Kong:20201020T000000
DTEND;TZID=Asia/Hong_Kong:20201020T235900
LOCATION:Online
SUMMARY:LAST CALL: Social Entrepreneurship Challenge: Innovating for Social Good!
UID:26936
END:VEVENT
BEGIN:VEVENT
DTSTAMP;TZID=Asia/Hong_Kong:20260420T192511
DTSTART;TZID=Asia/Hong_Kong:20201021T000000
DTEND;TZID=Asia/Hong_Kong:20201021T235900
LOCATION:Online
SUMMARY:LAST CALL: Social Entrepreneurship Challenge: Innovating for Social Good!
UID:26936
END:VEVENT
BEGIN:VEVENT
DTSTAMP;TZID=Asia/Hong_Kong:20260420T192511
DTSTART;TZID=Asia/Hong_Kong:20201022T000000
DTEND;TZID=Asia/Hong_Kong:20201022T235900
LOCATION:Online
SUMMARY:LAST CALL: Social Entrepreneurship Challenge: Innovating for Social Good!
UID:26936
END:VEVENT
BEGIN:VEVENT
DTSTAMP;TZID=Asia/Hong_Kong:20260420T192511
DTSTART;TZID=Asia/Hong_Kong:20201023T000000
DTEND;TZID=Asia/Hong_Kong:20201023T235900
LOCATION:Online
SUMMARY:LAST CALL: Social Entrepreneurship Challenge: Innovating for Social Good!
UID:26936
END:VEVENT
BEGIN:VEVENT
DTSTAMP;TZID=Asia/Hong_Kong:20260420T192511
DTSTART;TZID=Asia/Hong_Kong:20201024T000000
DTEND;TZID=Asia/Hong_Kong:20201024T235900
LOCATION:Online
SUMMARY:LAST CALL: Social Entrepreneurship Challenge: Innovating for Social Good!
UID:26936
END:VEVENT
BEGIN:VEVENT
DTSTAMP;TZID=Asia/Hong_Kong:20260420T192511
DTSTART;TZID=Asia/Hong_Kong:20201025T000000
DTEND;TZID=Asia/Hong_Kong:20201025T235900
LOCATION:Online
SUMMARY:LAST CALL: Social Entrepreneurship Challenge: Innovating for Social Good!
UID:26936
END:VEVENT
BEGIN:VEVENT
DTSTAMP;TZID=Asia/Hong_Kong:20260420T192511
DTSTART;TZID=Asia/Hong_Kong:20201026T000000
DTEND;TZID=Asia/Hong_Kong:20201026T235900
LOCATION:Online
SUMMARY:LAST CALL: Social Entrepreneurship Challenge: Innovating for Social Good!
UID:26936
END:VEVENT
BEGIN:VEVENT
DTSTAMP;TZID=Asia/Hong_Kong:20260420T192511
DTSTART;TZID=Asia/Hong_Kong:20201027T000000
DTEND;TZID=Asia/Hong_Kong:20201027T235900
LOCATION:Online
SUMMARY:LAST CALL: Social Entrepreneurship Challenge: Innovating for Social Good!
UID:26936
END:VEVENT
BEGIN:VEVENT
DTSTAMP;TZID=Asia/Hong_Kong:20260420T192511
DTSTART;TZID=Asia/Hong_Kong:20201028T000000
DTEND;TZID=Asia/Hong_Kong:20201028T235900
LOCATION:Online
SUMMARY:LAST CALL: Social Entrepreneurship Challenge: Innovating for Social Good!
UID:26936
END:VEVENT
BEGIN:VEVENT
DTSTAMP;TZID=Asia/Hong_Kong:20260420T192511
DTSTART;TZID=Asia/Hong_Kong:20201029T000000
DTEND;TZID=Asia/Hong_Kong:20201029T235900
LOCATION:Online
SUMMARY:LAST CALL: Social Entrepreneurship Challenge: Innovating for Social Good!
UID:26936
END:VEVENT
BEGIN:VEVENT
DTSTAMP;TZID=Asia/Hong_Kong:20260420T192511
DTSTART;TZID=Asia/Hong_Kong:20201030T000000
DTEND;TZID=Asia/Hong_Kong:20201030T235900
LOCATION:Online
SUMMARY:LAST CALL: Social Entrepreneurship Challenge: Innovating for Social Good!
UID:26936
END:VEVENT
BEGIN:VEVENT
DTSTAMP;TZID=Asia/Hong_Kong:20260420T192511
DTSTART;TZID=Asia/Hong_Kong:20201031T000000
DTEND;TZID=Asia/Hong_Kong:20201031T235900
LOCATION:Online
SUMMARY:LAST CALL: Social Entrepreneurship Challenge: Innovating for Social Good!
UID:26936
END:VEVENT
BEGIN:VEVENT
DTSTAMP;TZID=Asia/Hong_Kong:20260420T192511
DTSTART;TZID=Asia/Hong_Kong:20201101T000000
DTEND;TZID=Asia/Hong_Kong:20201101T235900
LOCATION:Online
SUMMARY:LAST CALL: Social Entrepreneurship Challenge: Innovating for Social Good!
UID:26936
END:VEVENT
BEGIN:VEVENT
DTSTAMP;TZID=Asia/Hong_Kong:20260420T192511
DTSTART;TZID=Asia/Hong_Kong:20201102T000000
DTEND;TZID=Asia/Hong_Kong:20201102T235900
LOCATION:Online
SUMMARY:LAST CALL: Social Entrepreneurship Challenge: Innovating for Social Good!
UID:26936
END:VEVENT
BEGIN:VEVENT
DTSTAMP;TZID=Asia/Hong_Kong:20260420T192511
DTSTART;TZID=Asia/Hong_Kong:20201103T000000
DTEND;TZID=Asia/Hong_Kong:20201103T235900
LOCATION:Online
SUMMARY:LAST CALL: Social Entrepreneurship Challenge: Innovating for Social Good!
UID:26936
END:VEVENT
BEGIN:VEVENT
DTSTAMP;TZID=Asia/Hong_Kong:20260420T192511
DTSTART;TZID=Asia/Hong_Kong:20201104T000000
DTEND;TZID=Asia/Hong_Kong:20201104T235900
LOCATION:Online
SUMMARY:LAST CALL: Social Entrepreneurship Challenge: Innovating for Social Good!
UID:26936
END:VEVENT
BEGIN:VEVENT
DTSTAMP;TZID=Asia/Hong_Kong:20260420T192511
DTSTART;TZID=Asia/Hong_Kong:20201105T000000
DTEND;TZID=Asia/Hong_Kong:20201105T235900
LOCATION:Online
SUMMARY:LAST CALL: Social Entrepreneurship Challenge: Innovating for Social Good!
UID:26936
END:VEVENT
BEGIN:VEVENT
DTSTAMP;TZID=Asia/Hong_Kong:20260420T192511
DTSTART;TZID=Asia/Hong_Kong:20201106T000000
DTEND;TZID=Asia/Hong_Kong:20201106T235900
LOCATION:Online
SUMMARY:LAST CALL: Social Entrepreneurship Challenge: Innovating for Social Good!
UID:26936
END:VEVENT
BEGIN:VEVENT
DTSTAMP;TZID=Asia/Hong_Kong:20260420T192511
DTSTART;TZID=Asia/Hong_Kong:20201107T000000
DTEND;TZID=Asia/Hong_Kong:20201107T235900
LOCATION:Online
SUMMARY:LAST CALL: Social Entrepreneurship Challenge: Innovating for Social Good!
UID:26936
END:VEVENT
BEGIN:VEVENT
DTSTAMP;TZID=Asia/Hong_Kong:20260420T192511
DTSTART;TZID=Asia/Hong_Kong:20201108T000000
DTEND;TZID=Asia/Hong_Kong:20201108T235900
LOCATION:Online
SUMMARY:LAST CALL: Social Entrepreneurship Challenge: Innovating for Social Good!
UID:26936
END:VEVENT
END:VCALENDAR