BEGIN:VCALENDAR
PRODID:-//HKUST Drupal Platform//EN
VERSION:2.0
BEGIN:VTIMEZONE
TZID:Asia/Hong_Kong
BEGIN:STANDARD
DTSTART:20071104T020000
TZOFFSETFROM:+0700
TZOFFSETTO:+0800
TZNAME:HKT
END:STANDARD
END:VTIMEZONE
BEGIN:VEVENT
DTSTAMP;TZID=Asia/Hong_Kong:20260420T192511
DTSTART;TZID=Asia/Hong_Kong:20201102T130000
DTEND;TZID=Asia/Hong_Kong:20201102T140000
LOCATION:Online
SUMMARY:大台主音樂先導計劃 - 院校巡迴講座及表演 My Main Stage – Music Production Pilot Program - Touring Performance and Talk
UID:26909
END:VEVENT
END:VCALENDAR