BEGIN:VCALENDAR
PRODID:-//HKUST Drupal Platform//EN
VERSION:2.0
BEGIN:VTIMEZONE
TZID:Asia/Hong_Kong
BEGIN:STANDARD
DTSTART:20071104T020000
TZOFFSETFROM:+0700
TZOFFSETTO:+0800
TZNAME:HKT
END:STANDARD
END:VTIMEZONE
BEGIN:VEVENT
DTSTAMP;TZID=Asia/Hong_Kong:20260420T153658
DTSTART;TZID=Asia/Hong_Kong:20200914T000000
DTEND;TZID=Asia/Hong_Kong:20200914T235500
SUMMARY:ESG Case Competition
UID:26768
END:VEVENT
BEGIN:VEVENT
DTSTAMP;TZID=Asia/Hong_Kong:20260420T153658
DTSTART;TZID=Asia/Hong_Kong:20200915T000000
DTEND;TZID=Asia/Hong_Kong:20200915T235500
SUMMARY:ESG Case Competition
UID:26768
END:VEVENT
BEGIN:VEVENT
DTSTAMP;TZID=Asia/Hong_Kong:20260420T153658
DTSTART;TZID=Asia/Hong_Kong:20200916T000000
DTEND;TZID=Asia/Hong_Kong:20200916T235500
SUMMARY:ESG Case Competition
UID:26768
END:VEVENT
BEGIN:VEVENT
DTSTAMP;TZID=Asia/Hong_Kong:20260420T153658
DTSTART;TZID=Asia/Hong_Kong:20200917T000000
DTEND;TZID=Asia/Hong_Kong:20200917T235500
SUMMARY:ESG Case Competition
UID:26768
END:VEVENT
BEGIN:VEVENT
DTSTAMP;TZID=Asia/Hong_Kong:20260420T153658
DTSTART;TZID=Asia/Hong_Kong:20200918T000000
DTEND;TZID=Asia/Hong_Kong:20200918T235500
SUMMARY:ESG Case Competition
UID:26768
END:VEVENT
BEGIN:VEVENT
DTSTAMP;TZID=Asia/Hong_Kong:20260420T153658
DTSTART;TZID=Asia/Hong_Kong:20200919T000000
DTEND;TZID=Asia/Hong_Kong:20200919T235500
SUMMARY:ESG Case Competition
UID:26768
END:VEVENT
BEGIN:VEVENT
DTSTAMP;TZID=Asia/Hong_Kong:20260420T153658
DTSTART;TZID=Asia/Hong_Kong:20200920T000000
DTEND;TZID=Asia/Hong_Kong:20200920T235500
SUMMARY:ESG Case Competition
UID:26768
END:VEVENT
BEGIN:VEVENT
DTSTAMP;TZID=Asia/Hong_Kong:20260420T153658
DTSTART;TZID=Asia/Hong_Kong:20200921T000000
DTEND;TZID=Asia/Hong_Kong:20200921T235500
SUMMARY:ESG Case Competition
UID:26768
END:VEVENT
BEGIN:VEVENT
DTSTAMP;TZID=Asia/Hong_Kong:20260420T153658
DTSTART;TZID=Asia/Hong_Kong:20200922T000000
DTEND;TZID=Asia/Hong_Kong:20200922T235500
SUMMARY:ESG Case Competition
UID:26768
END:VEVENT
BEGIN:VEVENT
DTSTAMP;TZID=Asia/Hong_Kong:20260420T153658
DTSTART;TZID=Asia/Hong_Kong:20200923T000000
DTEND;TZID=Asia/Hong_Kong:20200923T235500
SUMMARY:ESG Case Competition
UID:26768
END:VEVENT
BEGIN:VEVENT
DTSTAMP;TZID=Asia/Hong_Kong:20260420T153658
DTSTART;TZID=Asia/Hong_Kong:20200924T000000
DTEND;TZID=Asia/Hong_Kong:20200924T235500
SUMMARY:ESG Case Competition
UID:26768
END:VEVENT
BEGIN:VEVENT
DTSTAMP;TZID=Asia/Hong_Kong:20260420T153658
DTSTART;TZID=Asia/Hong_Kong:20200925T000000
DTEND;TZID=Asia/Hong_Kong:20200925T235500
SUMMARY:ESG Case Competition
UID:26768
END:VEVENT
BEGIN:VEVENT
DTSTAMP;TZID=Asia/Hong_Kong:20260420T153658
DTSTART;TZID=Asia/Hong_Kong:20200926T000000
DTEND;TZID=Asia/Hong_Kong:20200926T235500
SUMMARY:ESG Case Competition
UID:26768
END:VEVENT
BEGIN:VEVENT
DTSTAMP;TZID=Asia/Hong_Kong:20260420T153658
DTSTART;TZID=Asia/Hong_Kong:20200927T000000
DTEND;TZID=Asia/Hong_Kong:20200927T235500
SUMMARY:ESG Case Competition
UID:26768
END:VEVENT
BEGIN:VEVENT
DTSTAMP;TZID=Asia/Hong_Kong:20260420T153658
DTSTART;TZID=Asia/Hong_Kong:20200928T000000
DTEND;TZID=Asia/Hong_Kong:20200928T235500
SUMMARY:ESG Case Competition
UID:26768
END:VEVENT
BEGIN:VEVENT
DTSTAMP;TZID=Asia/Hong_Kong:20260420T153658
DTSTART;TZID=Asia/Hong_Kong:20200929T000000
DTEND;TZID=Asia/Hong_Kong:20200929T235500
SUMMARY:ESG Case Competition
UID:26768
END:VEVENT
BEGIN:VEVENT
DTSTAMP;TZID=Asia/Hong_Kong:20260420T153658
DTSTART;TZID=Asia/Hong_Kong:20200930T000000
DTEND;TZID=Asia/Hong_Kong:20200930T235500
SUMMARY:ESG Case Competition
UID:26768
END:VEVENT
BEGIN:VEVENT
DTSTAMP;TZID=Asia/Hong_Kong:20260420T153658
DTSTART;TZID=Asia/Hong_Kong:20201001T000000
DTEND;TZID=Asia/Hong_Kong:20201001T235500
SUMMARY:ESG Case Competition
UID:26768
END:VEVENT
BEGIN:VEVENT
DTSTAMP;TZID=Asia/Hong_Kong:20260420T153658
DTSTART;TZID=Asia/Hong_Kong:20201002T000000
DTEND;TZID=Asia/Hong_Kong:20201002T235500
SUMMARY:ESG Case Competition
UID:26768
END:VEVENT
BEGIN:VEVENT
DTSTAMP;TZID=Asia/Hong_Kong:20260420T153658
DTSTART;TZID=Asia/Hong_Kong:20201003T000000
DTEND;TZID=Asia/Hong_Kong:20201003T235500
SUMMARY:ESG Case Competition
UID:26768
END:VEVENT
BEGIN:VEVENT
DTSTAMP;TZID=Asia/Hong_Kong:20260420T153658
DTSTART;TZID=Asia/Hong_Kong:20201004T000000
DTEND;TZID=Asia/Hong_Kong:20201004T235500
SUMMARY:ESG Case Competition
UID:26768
END:VEVENT
END:VCALENDAR