BEGIN:VCALENDAR
PRODID:-//HKUST Drupal Platform//EN
VERSION:2.0
BEGIN:VTIMEZONE
TZID:Asia/Hong_Kong
BEGIN:STANDARD
DTSTART:20071104T020000
TZOFFSETFROM:+0700
TZOFFSETTO:+0800
TZNAME:HKT
END:STANDARD
END:VTIMEZONE
BEGIN:VEVENT
DTSTAMP;TZID=Asia/Hong_Kong:20260420T155157
DTSTART;TZID=Asia/Hong_Kong:20170112T100000
DTEND;TZID=Asia/Hong_Kong:20170112T130000
LOCATION:Room 3494 (Lifts 25-26), 3/F Academic Building, HKUST
SUMMARY:PhD in Computer Science & Engg - Towards Effective Regression Testing of Concurrent Programs
UID:26638
END:VEVENT
END:VCALENDAR