BEGIN:VCALENDAR
PRODID:-//HKUST Drupal Platform//EN
VERSION:2.0
BEGIN:VTIMEZONE
TZID:Asia/Hong_Kong
BEGIN:STANDARD
DTSTART:20071104T020000
TZOFFSETFROM:+0700
TZOFFSETTO:+0800
TZNAME:HKT
END:STANDARD
END:VTIMEZONE
BEGIN:VEVENT
DTSTAMP;TZID=Asia/Hong_Kong:20260420T192602
DTSTART;TZID=Asia/Hong_Kong:20170117T100000
DTEND;TZID=Asia/Hong_Kong:20170117T130000
LOCATION:Room 4504, 4/F (Lifts 25/26)  HKUST
SUMMARY:MPhil in Chemistry - Structural and Biochemical Characterization of α/β-Hydrolase Fold Enzymes in Biotin and Menaquinone Biosynthesis
UID:26605
END:VEVENT
END:VCALENDAR