BEGIN:VCALENDAR
PRODID:-//HKUST Drupal Platform//EN
VERSION:2.0
BEGIN:VTIMEZONE
TZID:Asia/Hong_Kong
BEGIN:STANDARD
DTSTART:20071104T020000
TZOFFSETFROM:+0700
TZOFFSETTO:+0800
TZNAME:HKT
END:STANDARD
END:VTIMEZONE
BEGIN:VEVENT
DTSTAMP;TZID=Asia/Hong_Kong:20260420T192605
DTSTART;TZID=Asia/Hong_Kong:20170117T143000
DTEND;TZID=Asia/Hong_Kong:20170117T173000
LOCATION:Room 4502 (Lifts 25-26), 4/F Academic Building, HKUST
SUMMARY:PhD in Chemistry - Fabrication of Microfluidic Devices and Biomaterial Design for Biological Applications
UID:26600
END:VEVENT
END:VCALENDAR