BEGIN:VCALENDAR
PRODID:-//HKUST Drupal Platform//EN
VERSION:2.0
BEGIN:VTIMEZONE
TZID:Asia/Hong_Kong
BEGIN:STANDARD
DTSTART:20071104T020000
TZOFFSETFROM:+0700
TZOFFSETTO:+0800
TZNAME:HKT
END:STANDARD
END:VTIMEZONE
BEGIN:VEVENT
DTSTAMP;TZID=Asia/Hong_Kong:20260420T171302
DTSTART;TZID=Asia/Hong_Kong:20170120T153000
DTEND;TZID=Asia/Hong_Kong:20170120T183000
LOCATION:Room 4472, near lifts 25&26
SUMMARY:PhD in Mathematics - A parallel finite element method for 3D moving contact line problem in complex domain with applications
UID:26575
END:VEVENT
END:VCALENDAR