BEGIN:VCALENDAR
PRODID:-//HKUST Drupal Platform//EN
VERSION:2.0
BEGIN:VTIMEZONE
TZID:Asia/Hong_Kong
BEGIN:STANDARD
DTSTART:20071104T020000
TZOFFSETFROM:+0700
TZOFFSETTO:+0800
TZNAME:HKT
END:STANDARD
END:VTIMEZONE
BEGIN:VEVENT
DTSTAMP;TZID=Asia/Hong_Kong:20260420T163804
DTSTART;TZID=Asia/Hong_Kong:20170125T100000
DTEND;TZID=Asia/Hong_Kong:20170125T130000
LOCATION:Room 4472 (Lifts 25-26), 4/F Academic Building, HKUST
SUMMARY:PhD in Envrl Sci, Policy & Mgmt - National and Provincial Energy Balances as an Assessment Tool for Shale Gas Development Options in China
UID:26556
END:VEVENT
END:VCALENDAR