BEGIN:VCALENDAR
PRODID:-//HKUST Drupal Platform//EN
VERSION:2.0
BEGIN:VTIMEZONE
TZID:Asia/Hong_Kong
BEGIN:STANDARD
DTSTART:20071104T020000
TZOFFSETFROM:+0700
TZOFFSETTO:+0800
TZNAME:HKT
END:STANDARD
END:VTIMEZONE
BEGIN:VEVENT
DTSTAMP;TZID=Asia/Hong_Kong:20260420T142614
DTSTART;TZID=Asia/Hong_Kong:20170225T113000
DTEND;TZID=Asia/Hong_Kong:20170225T123000
LOCATION:Hong Kong Heritage Museum
SUMMARY:Visit to \"Ceremony and Celebration - The Grand Weddings of the Qing Emperors\" Exhibition
UID:26477
END:VEVENT
END:VCALENDAR