BEGIN:VCALENDAR
PRODID:-//HKUST Drupal Platform//EN
VERSION:2.0
BEGIN:VTIMEZONE
TZID:Asia/Hong_Kong
BEGIN:STANDARD
DTSTART:20071104T020000
TZOFFSETFROM:+0700
TZOFFSETTO:+0800
TZNAME:HKT
END:STANDARD
END:VTIMEZONE
BEGIN:VEVENT
DTSTAMP;TZID=Asia/Hong_Kong:20260420T171301
DTSTART;TZID=Asia/Hong_Kong:20170321T100000
DTEND;TZID=Asia/Hong_Kong:20170321T120000
LOCATION:Rm1504 (Lift 25-26)
SUMMARY:MPhil in Bioengineering - Elucidating Protein Dynamics and Protein-Protein Interactions Using Computer Modeling and Simulations
UID:26410
END:VEVENT
END:VCALENDAR